BEGIN:VCALENDAR
VERSION:2.0
PRODID:-//Tukios.com/
BEGIN:VEVENT
UID:36b40bea-ed41-4519-86a0-64a4932819fe@www.mkdixonfh.com
DTSTAMP:20260423T045813Z
DTSTART:20260425T160000Z
DTEND:20260425T170000Z
SUMMARY:Celebration of Life
DESCRIPTION:
URL:https://www.mkdixonfh.com/obituaries/berkley-henry
LOCATION:Good Hope Baptist Church 908 Washington Street  Patterson LA 
	70392
GEO:29.6912602;-91.3040283
END:VEVENT
END:VCALENDAR