BEGIN:VCALENDAR
VERSION:2.0
PRODID:-//Tukios.com/
BEGIN:VEVENT
UID:c005c0b1-3404-451d-9ea0-d852d079ef46@www.mkdixonfh.com
DTSTAMP:20260423T045937Z
DTSTART:20260425T140000Z
DTEND:20260425T160000Z
SUMMARY:Visitation
DESCRIPTION:
URL:https://www.mkdixonfh.com/obituaries/berkley-henry
LOCATION:Good Hope Baptist Church 908 Washington Street  Patterson LA 
	70392
GEO:29.6912602;-91.3040283
END:VEVENT
END:VCALENDAR